BEGIN:VCALENDAR
VERSION:2.0
PRODID:-//Peacewalker Neidan - ECPv6.11.1//NONSGML v1.0//EN
CALSCALE:GREGORIAN
METHOD:PUBLISH
X-WR-CALNAME:Peacewalker Neidan
X-ORIGINAL-URL:https://www.peacewalkerneidan.com
X-WR-CALDESC:Events for Peacewalker Neidan
REFRESH-INTERVAL;VALUE=DURATION:PT1H
X-Robots-Tag:noindex
X-PUBLISHED-TTL:PT1H
BEGIN:VTIMEZONE
TZID:UTC
BEGIN:STANDARD
TZOFFSETFROM:+0000
TZOFFSETTO:+0000
TZNAME:UTC
DTSTART:20260101T000000
END:STANDARD
END:VTIMEZONE
BEGIN:VEVENT
DTSTART;TZID=UTC:20261202T190000
DTEND;TZID=UTC:20261202T200000
DTSTAMP:20260423T032053
CREATED:20250623T175408Z
LAST-MODIFIED:20250623T175408Z
UID:368-1796238000-1796241600@www.peacewalkerneidan.com
SUMMARY:WLP Broad Northern Method
DESCRIPTION:
URL:https://www.peacewalkerneidan.com/event/wlp-broad-northern-method-139/
END:VEVENT
BEGIN:VEVENT
DTSTART;TZID=UTC:20261207T190000
DTEND;TZID=UTC:20261207T200000
DTSTAMP:20260423T032053
CREATED:20250623T175409Z
LAST-MODIFIED:20250623T175409Z
UID:369-1796670000-1796673600@www.peacewalkerneidan.com
SUMMARY:WLP Broad Northern Method
DESCRIPTION:
URL:https://www.peacewalkerneidan.com/event/wlp-broad-northern-method-140/
END:VEVENT
BEGIN:VEVENT
DTSTART;TZID=UTC:20261209T190000
DTEND;TZID=UTC:20261209T200000
DTSTAMP:20260423T032053
CREATED:20250623T175426Z
LAST-MODIFIED:20250623T175426Z
UID:370-1796842800-1796846400@www.peacewalkerneidan.com
SUMMARY:WLP Broad Northern Method
DESCRIPTION:
URL:https://www.peacewalkerneidan.com/event/wlp-broad-northern-method-141/
END:VEVENT
BEGIN:VEVENT
DTSTART;TZID=UTC:20261214T190000
DTEND;TZID=UTC:20261214T200000
DTSTAMP:20260423T032053
CREATED:20250623T175426Z
LAST-MODIFIED:20250623T175426Z
UID:371-1797274800-1797278400@www.peacewalkerneidan.com
SUMMARY:WLP Broad Northern Method
DESCRIPTION:
URL:https://www.peacewalkerneidan.com/event/wlp-broad-northern-method-142/
END:VEVENT
BEGIN:VEVENT
DTSTART;TZID=UTC:20261216T190000
DTEND;TZID=UTC:20261216T200000
DTSTAMP:20260423T032053
CREATED:20250623T175426Z
LAST-MODIFIED:20250623T175426Z
UID:372-1797447600-1797451200@www.peacewalkerneidan.com
SUMMARY:WLP Broad Northern Method
DESCRIPTION:
URL:https://www.peacewalkerneidan.com/event/wlp-broad-northern-method-143/
END:VEVENT
BEGIN:VEVENT
DTSTART;TZID=UTC:20261221T190000
DTEND;TZID=UTC:20261221T200000
DTSTAMP:20260423T032053
CREATED:20250623T175427Z
LAST-MODIFIED:20250623T175427Z
UID:373-1797879600-1797883200@www.peacewalkerneidan.com
SUMMARY:WLP Broad Northern Method
DESCRIPTION:
URL:https://www.peacewalkerneidan.com/event/wlp-broad-northern-method-144/
END:VEVENT
BEGIN:VEVENT
DTSTART;TZID=UTC:20261223T190000
DTEND;TZID=UTC:20261223T200000
DTSTAMP:20260423T032053
CREATED:20250623T175427Z
LAST-MODIFIED:20250623T175427Z
UID:374-1798052400-1798056000@www.peacewalkerneidan.com
SUMMARY:WLP Broad Northern Method
DESCRIPTION:
URL:https://www.peacewalkerneidan.com/event/wlp-broad-northern-method-145/
END:VEVENT
BEGIN:VEVENT
DTSTART;TZID=UTC:20261228T190000
DTEND;TZID=UTC:20261228T200000
DTSTAMP:20260423T032053
CREATED:20250623T175436Z
LAST-MODIFIED:20250623T175436Z
UID:375-1798484400-1798488000@www.peacewalkerneidan.com
SUMMARY:WLP Broad Northern Method
DESCRIPTION:
URL:https://www.peacewalkerneidan.com/event/wlp-broad-northern-method-146/
END:VEVENT
END:VCALENDAR