BEGIN:VCALENDAR
VERSION:2.0
PRODID:-//Peacewalker Neidan - ECPv6.11.1//NONSGML v1.0//EN
CALSCALE:GREGORIAN
METHOD:PUBLISH
X-WR-CALNAME:Peacewalker Neidan
X-ORIGINAL-URL:https://www.peacewalkerneidan.com
X-WR-CALDESC:Events for Peacewalker Neidan
REFRESH-INTERVAL;VALUE=DURATION:PT1H
X-Robots-Tag:noindex
X-PUBLISHED-TTL:PT1H
BEGIN:VTIMEZONE
TZID:UTC
BEGIN:STANDARD
TZOFFSETFROM:+0000
TZOFFSETTO:+0000
TZNAME:UTC
DTSTART:20260101T000000
END:STANDARD
END:VTIMEZONE
BEGIN:VEVENT
DTSTART;TZID=UTC:20261102T190000
DTEND;TZID=UTC:20261102T200000
DTSTAMP:20260423T032242
CREATED:20250623T174848Z
LAST-MODIFIED:20250623T174848Z
UID:360-1793646000-1793649600@www.peacewalkerneidan.com
SUMMARY:WLP Broad Northern Method
DESCRIPTION:
URL:https://www.peacewalkerneidan.com/event/wlp-broad-northern-method-131/
END:VEVENT
BEGIN:VEVENT
DTSTART;TZID=UTC:20261104T190000
DTEND;TZID=UTC:20261104T200000
DTSTAMP:20260423T032242
CREATED:20250623T174848Z
LAST-MODIFIED:20250623T174848Z
UID:361-1793818800-1793822400@www.peacewalkerneidan.com
SUMMARY:WLP Broad Northern Method
DESCRIPTION:
URL:https://www.peacewalkerneidan.com/event/wlp-broad-northern-method-132/
END:VEVENT
BEGIN:VEVENT
DTSTART;TZID=UTC:20261109T190000
DTEND;TZID=UTC:20261109T200000
DTSTAMP:20260423T032242
CREATED:20250623T174848Z
LAST-MODIFIED:20250623T174848Z
UID:362-1794250800-1794254400@www.peacewalkerneidan.com
SUMMARY:WLP Broad Northern Method
DESCRIPTION:
URL:https://www.peacewalkerneidan.com/event/wlp-broad-northern-method-133/
END:VEVENT
BEGIN:VEVENT
DTSTART;TZID=UTC:20261111T190000
DTEND;TZID=UTC:20261111T200000
DTSTAMP:20260423T032242
CREATED:20250623T174848Z
LAST-MODIFIED:20250623T174848Z
UID:363-1794423600-1794427200@www.peacewalkerneidan.com
SUMMARY:WLP Broad Northern Method
DESCRIPTION:
URL:https://www.peacewalkerneidan.com/event/wlp-broad-northern-method-134/
END:VEVENT
BEGIN:VEVENT
DTSTART;TZID=UTC:20261116T190000
DTEND;TZID=UTC:20261116T200000
DTSTAMP:20260423T032242
CREATED:20250623T174849Z
LAST-MODIFIED:20250623T174849Z
UID:364-1794855600-1794859200@www.peacewalkerneidan.com
SUMMARY:WLP Broad Northern Method
DESCRIPTION:
URL:https://www.peacewalkerneidan.com/event/wlp-broad-northern-method-135/
END:VEVENT
BEGIN:VEVENT
DTSTART;TZID=UTC:20261118T190000
DTEND;TZID=UTC:20261118T200000
DTSTAMP:20260423T032242
CREATED:20250623T175408Z
LAST-MODIFIED:20250623T175408Z
UID:365-1795028400-1795032000@www.peacewalkerneidan.com
SUMMARY:WLP Broad Northern Method
DESCRIPTION:
URL:https://www.peacewalkerneidan.com/event/wlp-broad-northern-method-136/
END:VEVENT
BEGIN:VEVENT
DTSTART;TZID=UTC:20261123T190000
DTEND;TZID=UTC:20261123T200000
DTSTAMP:20260423T032242
CREATED:20250623T175408Z
LAST-MODIFIED:20250623T175408Z
UID:366-1795460400-1795464000@www.peacewalkerneidan.com
SUMMARY:WLP Broad Northern Method
DESCRIPTION:
URL:https://www.peacewalkerneidan.com/event/wlp-broad-northern-method-137/
END:VEVENT
BEGIN:VEVENT
DTSTART;TZID=UTC:20261125T190000
DTEND;TZID=UTC:20261125T200000
DTSTAMP:20260423T032242
CREATED:20250623T175408Z
LAST-MODIFIED:20250623T175408Z
UID:367-1795633200-1795636800@www.peacewalkerneidan.com
SUMMARY:WLP Broad Northern Method
DESCRIPTION:
URL:https://www.peacewalkerneidan.com/event/wlp-broad-northern-method-138/
END:VEVENT
END:VCALENDAR