BEGIN:VCALENDAR
VERSION:2.0
PRODID:-//Peacewalker Neidan - ECPv6.11.1//NONSGML v1.0//EN
CALSCALE:GREGORIAN
METHOD:PUBLISH
X-WR-CALNAME:Peacewalker Neidan
X-ORIGINAL-URL:https://www.peacewalkerneidan.com
X-WR-CALDESC:Events for Peacewalker Neidan
REFRESH-INTERVAL;VALUE=DURATION:PT1H
X-Robots-Tag:noindex
X-PUBLISHED-TTL:PT1H
BEGIN:VTIMEZONE
TZID:UTC
BEGIN:STANDARD
TZOFFSETFROM:+0000
TZOFFSETTO:+0000
TZNAME:UTC
DTSTART:20260101T000000
END:STANDARD
END:VTIMEZONE
BEGIN:VEVENT
DTSTART;TZID=UTC:20260902T190000
DTEND;TZID=UTC:20260902T200000
DTSTAMP:20260422T231854
CREATED:20250623T174819Z
LAST-MODIFIED:20250623T174819Z
UID:344-1788375600-1788379200@www.peacewalkerneidan.com
SUMMARY:WLP Broad Northern Method
DESCRIPTION:
URL:https://www.peacewalkerneidan.com/event/wlp-broad-northern-method-115/
END:VEVENT
BEGIN:VEVENT
DTSTART;TZID=UTC:20260907T190000
DTEND;TZID=UTC:20260907T200000
DTSTAMP:20260422T231854
CREATED:20250623T174825Z
LAST-MODIFIED:20250623T174825Z
UID:345-1788807600-1788811200@www.peacewalkerneidan.com
SUMMARY:WLP Broad Northern Method
DESCRIPTION:
URL:https://www.peacewalkerneidan.com/event/wlp-broad-northern-method-116/
END:VEVENT
BEGIN:VEVENT
DTSTART;TZID=UTC:20260909T190000
DTEND;TZID=UTC:20260909T200000
DTSTAMP:20260422T231854
CREATED:20250623T174825Z
LAST-MODIFIED:20250623T174825Z
UID:346-1788980400-1788984000@www.peacewalkerneidan.com
SUMMARY:WLP Broad Northern Method
DESCRIPTION:
URL:https://www.peacewalkerneidan.com/event/wlp-broad-northern-method-117/
END:VEVENT
BEGIN:VEVENT
DTSTART;TZID=UTC:20260914T190000
DTEND;TZID=UTC:20260914T200000
DTSTAMP:20260422T231854
CREATED:20250623T174825Z
LAST-MODIFIED:20250623T174825Z
UID:347-1789412400-1789416000@www.peacewalkerneidan.com
SUMMARY:WLP Broad Northern Method
DESCRIPTION:
URL:https://www.peacewalkerneidan.com/event/wlp-broad-northern-method-118/
END:VEVENT
BEGIN:VEVENT
DTSTART;TZID=UTC:20260916T190000
DTEND;TZID=UTC:20260916T200000
DTSTAMP:20260422T231854
CREATED:20250623T174825Z
LAST-MODIFIED:20250623T174825Z
UID:348-1789585200-1789588800@www.peacewalkerneidan.com
SUMMARY:WLP Broad Northern Method
DESCRIPTION:
URL:https://www.peacewalkerneidan.com/event/wlp-broad-northern-method-119/
END:VEVENT
BEGIN:VEVENT
DTSTART;TZID=UTC:20260921T190000
DTEND;TZID=UTC:20260921T200000
DTSTAMP:20260422T231854
CREATED:20250623T174825Z
LAST-MODIFIED:20250623T174825Z
UID:349-1790017200-1790020800@www.peacewalkerneidan.com
SUMMARY:WLP Broad Northern Method
DESCRIPTION:
URL:https://www.peacewalkerneidan.com/event/wlp-broad-northern-method-120/
END:VEVENT
BEGIN:VEVENT
DTSTART;TZID=UTC:20260923T190000
DTEND;TZID=UTC:20260923T200000
DTSTAMP:20260422T231854
CREATED:20250623T174833Z
LAST-MODIFIED:20250623T174833Z
UID:350-1790190000-1790193600@www.peacewalkerneidan.com
SUMMARY:WLP Broad Northern Method
DESCRIPTION:
URL:https://www.peacewalkerneidan.com/event/wlp-broad-northern-method-121/
END:VEVENT
BEGIN:VEVENT
DTSTART;TZID=UTC:20260928T190000
DTEND;TZID=UTC:20260928T200000
DTSTAMP:20260422T231854
CREATED:20250623T174833Z
LAST-MODIFIED:20250623T174833Z
UID:351-1790622000-1790625600@www.peacewalkerneidan.com
SUMMARY:WLP Broad Northern Method
DESCRIPTION:
URL:https://www.peacewalkerneidan.com/event/wlp-broad-northern-method-122/
END:VEVENT
END:VCALENDAR