BEGIN:VCALENDAR
VERSION:2.0
PRODID:-//Peacewalker Neidan - ECPv6.11.1//NONSGML v1.0//EN
CALSCALE:GREGORIAN
METHOD:PUBLISH
X-ORIGINAL-URL:https://www.peacewalkerneidan.com
X-WR-CALDESC:Events for Peacewalker Neidan
REFRESH-INTERVAL;VALUE=DURATION:PT1H
X-Robots-Tag:noindex
X-PUBLISHED-TTL:PT1H
BEGIN:VTIMEZONE
TZID:UTC
BEGIN:STANDARD
TZOFFSETFROM:+0000
TZOFFSETTO:+0000
TZNAME:UTC
DTSTART:20260101T000000
END:STANDARD
END:VTIMEZONE
BEGIN:VEVENT
DTSTART;TZID=UTC:20260701T190000
DTEND;TZID=UTC:20260701T200000
DTSTAMP:20260422T163754
CREATED:20250623T174721Z
LAST-MODIFIED:20250623T174721Z
UID:323-1782932400-1782936000@www.peacewalkerneidan.com
SUMMARY:WLP Broad Northern Method
DESCRIPTION:
URL:https://www.peacewalkerneidan.com/event/wlp-broad-northern-method-99/
END:VEVENT
BEGIN:VEVENT
DTSTART;TZID=UTC:20260706T190000
DTEND;TZID=UTC:20260706T200000
DTSTAMP:20260422T163754
CREATED:20250623T174721Z
LAST-MODIFIED:20250623T174721Z
UID:324-1783364400-1783368000@www.peacewalkerneidan.com
SUMMARY:WLP Broad Northern Method
DESCRIPTION:
URL:https://www.peacewalkerneidan.com/event/wlp-broad-northern-method-100/
END:VEVENT
BEGIN:VEVENT
DTSTART;TZID=UTC:20260708T190000
DTEND;TZID=UTC:20260708T200000
DTSTAMP:20260422T163754
CREATED:20250623T174748Z
LAST-MODIFIED:20250623T174748Z
UID:330-1783537200-1783540800@www.peacewalkerneidan.com
SUMMARY:WLP Broad Northern Method
DESCRIPTION:
URL:https://www.peacewalkerneidan.com/event/wlp-broad-northern-method-101/
END:VEVENT
BEGIN:VEVENT
DTSTART;TZID=UTC:20260713T190000
DTEND;TZID=UTC:20260713T200000
DTSTAMP:20260422T163754
CREATED:20250623T174749Z
LAST-MODIFIED:20250623T174749Z
UID:331-1783969200-1783972800@www.peacewalkerneidan.com
SUMMARY:WLP Broad Northern Method
DESCRIPTION:
URL:https://www.peacewalkerneidan.com/event/wlp-broad-northern-method-102/
END:VEVENT
BEGIN:VEVENT
DTSTART;TZID=UTC:20260715T190000
DTEND;TZID=UTC:20260715T200000
DTSTAMP:20260422T163754
CREATED:20250623T174749Z
LAST-MODIFIED:20250623T174749Z
UID:332-1784142000-1784145600@www.peacewalkerneidan.com
SUMMARY:WLP Broad Northern Method
DESCRIPTION:
URL:https://www.peacewalkerneidan.com/event/wlp-broad-northern-method-103/
END:VEVENT
BEGIN:VEVENT
DTSTART;TZID=UTC:20260720T190000
DTEND;TZID=UTC:20260720T200000
DTSTAMP:20260422T163754
CREATED:20250623T174749Z
LAST-MODIFIED:20250623T174749Z
UID:333-1784574000-1784577600@www.peacewalkerneidan.com
SUMMARY:WLP Broad Northern Method
DESCRIPTION:
URL:https://www.peacewalkerneidan.com/event/wlp-broad-northern-method-104/
END:VEVENT
BEGIN:VEVENT
DTSTART;TZID=UTC:20260722T190000
DTEND;TZID=UTC:20260722T200000
DTSTAMP:20260422T163754
CREATED:20250623T174749Z
LAST-MODIFIED:20250623T174749Z
UID:334-1784746800-1784750400@www.peacewalkerneidan.com
SUMMARY:WLP Broad Northern Method
DESCRIPTION:
URL:https://www.peacewalkerneidan.com/event/wlp-broad-northern-method-105/
END:VEVENT
BEGIN:VEVENT
DTSTART;TZID=UTC:20260727T190000
DTEND;TZID=UTC:20260727T200000
DTSTAMP:20260422T163754
CREATED:20250623T174815Z
LAST-MODIFIED:20250623T174815Z
UID:335-1785178800-1785182400@www.peacewalkerneidan.com
SUMMARY:WLP Broad Northern Method
DESCRIPTION:
URL:https://www.peacewalkerneidan.com/event/wlp-broad-northern-method-106/
END:VEVENT
END:VCALENDAR