BEGIN:VCALENDAR
VERSION:2.0
PRODID:-//Peacewalker Neidan - ECPv6.11.1//NONSGML v1.0//EN
CALSCALE:GREGORIAN
METHOD:PUBLISH
X-ORIGINAL-URL:https://www.peacewalkerneidan.com
X-WR-CALDESC:Events for Peacewalker Neidan
REFRESH-INTERVAL;VALUE=DURATION:PT1H
X-Robots-Tag:noindex
X-PUBLISHED-TTL:PT1H
BEGIN:VTIMEZONE
TZID:UTC
BEGIN:STANDARD
TZOFFSETFROM:+0000
TZOFFSETTO:+0000
TZNAME:UTC
DTSTART:20260101T000000
END:STANDARD
END:VTIMEZONE
BEGIN:VEVENT
DTSTART;TZID=UTC:20260601T190000
DTEND;TZID=UTC:20260601T200000
DTSTAMP:20260422T151220
CREATED:20250623T174710Z
LAST-MODIFIED:20250623T174710Z
UID:315-1780340400-1780344000@www.peacewalkerneidan.com
SUMMARY:WLP Broad Northern Method
DESCRIPTION:
URL:https://www.peacewalkerneidan.com/event/wlp-broad-northern-method-91/
END:VEVENT
BEGIN:VEVENT
DTSTART;TZID=UTC:20260603T190000
DTEND;TZID=UTC:20260603T200000
DTSTAMP:20260422T151220
CREATED:20250623T174710Z
LAST-MODIFIED:20250623T174710Z
UID:316-1780513200-1780516800@www.peacewalkerneidan.com
SUMMARY:WLP Broad Northern Method
DESCRIPTION:
URL:https://www.peacewalkerneidan.com/event/wlp-broad-northern-method-92/
END:VEVENT
BEGIN:VEVENT
DTSTART;TZID=UTC:20260608T190000
DTEND;TZID=UTC:20260608T200000
DTSTAMP:20260422T151220
CREATED:20250623T174710Z
LAST-MODIFIED:20250623T174710Z
UID:317-1780945200-1780948800@www.peacewalkerneidan.com
SUMMARY:WLP Broad Northern Method
DESCRIPTION:
URL:https://www.peacewalkerneidan.com/event/wlp-broad-northern-method-93/
END:VEVENT
BEGIN:VEVENT
DTSTART;TZID=UTC:20260610T190000
DTEND;TZID=UTC:20260610T200000
DTSTAMP:20260422T151220
CREATED:20250623T174710Z
LAST-MODIFIED:20250623T174710Z
UID:318-1781118000-1781121600@www.peacewalkerneidan.com
SUMMARY:WLP Broad Northern Method
DESCRIPTION:
URL:https://www.peacewalkerneidan.com/event/wlp-broad-northern-method-94/
END:VEVENT
BEGIN:VEVENT
DTSTART;TZID=UTC:20260615T190000
DTEND;TZID=UTC:20260615T200000
DTSTAMP:20260422T151220
CREATED:20250623T174710Z
LAST-MODIFIED:20250623T174710Z
UID:319-1781550000-1781553600@www.peacewalkerneidan.com
SUMMARY:WLP Broad Northern Method
DESCRIPTION:
URL:https://www.peacewalkerneidan.com/event/wlp-broad-northern-method-95/
END:VEVENT
BEGIN:VEVENT
DTSTART;TZID=UTC:20260617T190000
DTEND;TZID=UTC:20260617T200000
DTSTAMP:20260422T151220
CREATED:20250623T174720Z
LAST-MODIFIED:20250623T174721Z
UID:320-1781722800-1781726400@www.peacewalkerneidan.com
SUMMARY:WLP Broad Northern Method
DESCRIPTION:
URL:https://www.peacewalkerneidan.com/event/wlp-broad-northern-method-96/
END:VEVENT
BEGIN:VEVENT
DTSTART;TZID=UTC:20260622T190000
DTEND;TZID=UTC:20260622T200000
DTSTAMP:20260422T151220
CREATED:20250623T174720Z
LAST-MODIFIED:20250623T174721Z
UID:321-1782154800-1782158400@www.peacewalkerneidan.com
SUMMARY:WLP Broad Northern Method
DESCRIPTION:
URL:https://www.peacewalkerneidan.com/event/wlp-broad-northern-method-97/
END:VEVENT
BEGIN:VEVENT
DTSTART;TZID=UTC:20260624T190000
DTEND;TZID=UTC:20260624T200000
DTSTAMP:20260422T151220
CREATED:20250623T174720Z
LAST-MODIFIED:20250623T174721Z
UID:322-1782327600-1782331200@www.peacewalkerneidan.com
SUMMARY:WLP Broad Northern Method
DESCRIPTION:
URL:https://www.peacewalkerneidan.com/event/wlp-broad-northern-method-98/
END:VEVENT
END:VCALENDAR