BEGIN:VCALENDAR
VERSION:2.0
PRODID:-//Peacewalker Neidan - ECPv6.11.1//NONSGML v1.0//EN
CALSCALE:GREGORIAN
METHOD:PUBLISH
X-WR-CALNAME:Peacewalker Neidan
X-ORIGINAL-URL:https://www.peacewalkerneidan.com
X-WR-CALDESC:Events for Peacewalker Neidan
REFRESH-INTERVAL;VALUE=DURATION:PT1H
X-Robots-Tag:noindex
X-PUBLISHED-TTL:PT1H
BEGIN:VTIMEZONE
TZID:UTC
BEGIN:STANDARD
TZOFFSETFROM:+0000
TZOFFSETTO:+0000
TZNAME:UTC
DTSTART:20250101T000000
END:STANDARD
END:VTIMEZONE
BEGIN:VEVENT
DTSTART;TZID=UTC:20250716T190000
DTEND;TZID=UTC:20250716T200000
DTSTAMP:20260423T024015
CREATED:20250623T170806Z
LAST-MODIFIED:20250623T170806Z
UID:231-1752692400-1752696000@www.peacewalkerneidan.com
SUMMARY:WLP Broad Northern Method
DESCRIPTION:
URL:https://www.peacewalkerneidan.com/event/wlp-broad-northern-method-7/
END:VEVENT
BEGIN:VEVENT
DTSTART;TZID=UTC:20250714T190000
DTEND;TZID=UTC:20250714T200000
DTSTAMP:20260423T024015
CREATED:20250623T170806Z
LAST-MODIFIED:20250623T170806Z
UID:230-1752519600-1752523200@www.peacewalkerneidan.com
SUMMARY:WLP Broad Northern Method
DESCRIPTION:
URL:https://www.peacewalkerneidan.com/event/wlp-broad-northern-method-6/
END:VEVENT
BEGIN:VEVENT
DTSTART;TZID=UTC:20250709T190000
DTEND;TZID=UTC:20250709T200000
DTSTAMP:20260423T024015
CREATED:20250623T170805Z
LAST-MODIFIED:20250623T170805Z
UID:229-1752087600-1752091200@www.peacewalkerneidan.com
SUMMARY:WLP Broad Northern Method
DESCRIPTION:
URL:https://www.peacewalkerneidan.com/event/wlp-broad-northern-method-5/
END:VEVENT
BEGIN:VEVENT
DTSTART;TZID=UTC:20250707T190000
DTEND;TZID=UTC:20250707T200000
DTSTAMP:20260423T024015
CREATED:20250623T170805Z
LAST-MODIFIED:20250623T170805Z
UID:228-1751914800-1751918400@www.peacewalkerneidan.com
SUMMARY:WLP Broad Northern Method
DESCRIPTION:
URL:https://www.peacewalkerneidan.com/event/wlp-broad-northern-method-4/
END:VEVENT
BEGIN:VEVENT
DTSTART;TZID=UTC:20250702T190000
DTEND;TZID=UTC:20250702T200000
DTSTAMP:20260423T024015
CREATED:20250623T170805Z
LAST-MODIFIED:20250623T170805Z
UID:227-1751482800-1751486400@www.peacewalkerneidan.com
SUMMARY:WLP Broad Northern Method
DESCRIPTION:
URL:https://www.peacewalkerneidan.com/event/wlp-broad-northern-method-3/
END:VEVENT
BEGIN:VEVENT
DTSTART;TZID=UTC:20250625T190000
DTEND;TZID=UTC:20250625T200000
DTSTAMP:20260423T024015
CREATED:20250623T170805Z
LAST-MODIFIED:20250623T170805Z
UID:226-1750878000-1750881600@www.peacewalkerneidan.com
SUMMARY:WLP Broad Northern Method
DESCRIPTION:
URL:https://www.peacewalkerneidan.com/event/wlp-broad-northern-method-2/
END:VEVENT
BEGIN:VEVENT
DTSTART;TZID=UTC:20250623T190000
DTEND;TZID=UTC:20250623T200000
DTSTAMP:20260423T024015
CREATED:20250623T170805Z
LAST-MODIFIED:20250623T170805Z
UID:225-1750705200-1750708800@www.peacewalkerneidan.com
SUMMARY:WLP Broad Northern Method
DESCRIPTION:
URL:https://www.peacewalkerneidan.com/event/wlp-broad-northern-method/
END:VEVENT
END:VCALENDAR