BEGIN:VCALENDAR
VERSION:2.0
PRODID:-//Peacewalker Neidan - ECPv6.11.1//NONSGML v1.0//EN
CALSCALE:GREGORIAN
METHOD:PUBLISH
X-WR-CALNAME:Peacewalker Neidan
X-ORIGINAL-URL:https://www.peacewalkerneidan.com
X-WR-CALDESC:Events for Peacewalker Neidan
REFRESH-INTERVAL;VALUE=DURATION:PT1H
X-Robots-Tag:noindex
X-PUBLISHED-TTL:PT1H
BEGIN:VTIMEZONE
TZID:UTC
BEGIN:STANDARD
TZOFFSETFROM:+0000
TZOFFSETTO:+0000
TZNAME:UTC
DTSTART:20250101T000000
END:STANDARD
END:VTIMEZONE
BEGIN:VEVENT
DTSTART;TZID=UTC:20250903T190000
DTEND;TZID=UTC:20250903T200000
DTSTAMP:20260423T034331
CREATED:20250623T170924Z
LAST-MODIFIED:20250623T170924Z
UID:244-1756926000-1756929600@www.peacewalkerneidan.com
SUMMARY:WLP Broad Northern Method
DESCRIPTION:
URL:https://www.peacewalkerneidan.com/event/wlp-broad-northern-method-20/
END:VEVENT
BEGIN:VEVENT
DTSTART;TZID=UTC:20250901T190000
DTEND;TZID=UTC:20250901T200000
DTSTAMP:20260423T034331
CREATED:20250623T170924Z
LAST-MODIFIED:20250623T170924Z
UID:243-1756753200-1756756800@www.peacewalkerneidan.com
SUMMARY:WLP Broad Northern Method
DESCRIPTION:
URL:https://www.peacewalkerneidan.com/event/wlp-broad-northern-method-19/
END:VEVENT
BEGIN:VEVENT
DTSTART;TZID=UTC:20250827T190000
DTEND;TZID=UTC:20250827T200000
DTSTAMP:20260423T034331
CREATED:20250623T170924Z
LAST-MODIFIED:20250623T170924Z
UID:242-1756321200-1756324800@www.peacewalkerneidan.com
SUMMARY:WLP Broad Northern Method
DESCRIPTION:
URL:https://www.peacewalkerneidan.com/event/wlp-broad-northern-method-18/
END:VEVENT
BEGIN:VEVENT
DTSTART;TZID=UTC:20250825T190000
DTEND;TZID=UTC:20250825T200000
DTSTAMP:20260423T034331
CREATED:20250623T170924Z
LAST-MODIFIED:20250623T170924Z
UID:241-1756148400-1756152000@www.peacewalkerneidan.com
SUMMARY:WLP Broad Northern Method
DESCRIPTION:
URL:https://www.peacewalkerneidan.com/event/wlp-broad-northern-method-17/
END:VEVENT
BEGIN:VEVENT
DTSTART;TZID=UTC:20250820T190000
DTEND;TZID=UTC:20250820T200000
DTSTAMP:20260423T034331
CREATED:20250623T170924Z
LAST-MODIFIED:20250623T170924Z
UID:240-1755716400-1755720000@www.peacewalkerneidan.com
SUMMARY:WLP Broad Northern Method
DESCRIPTION:
URL:https://www.peacewalkerneidan.com/event/wlp-broad-northern-method-16/
END:VEVENT
BEGIN:VEVENT
DTSTART;TZID=UTC:20250818T190000
DTEND;TZID=UTC:20250818T200000
DTSTAMP:20260423T034331
CREATED:20250623T170822Z
LAST-MODIFIED:20250623T170822Z
UID:239-1755543600-1755547200@www.peacewalkerneidan.com
SUMMARY:WLP Broad Northern Method
DESCRIPTION:
URL:https://www.peacewalkerneidan.com/event/wlp-broad-northern-method-15/
END:VEVENT
BEGIN:VEVENT
DTSTART;TZID=UTC:20250813T190000
DTEND;TZID=UTC:20250813T200000
DTSTAMP:20260423T034331
CREATED:20250623T170822Z
LAST-MODIFIED:20250623T170822Z
UID:238-1755111600-1755115200@www.peacewalkerneidan.com
SUMMARY:WLP Broad Northern Method
DESCRIPTION:
URL:https://www.peacewalkerneidan.com/event/wlp-broad-northern-method-14/
END:VEVENT
BEGIN:VEVENT
DTSTART;TZID=UTC:20250811T190000
DTEND;TZID=UTC:20250811T200000
DTSTAMP:20260423T034331
CREATED:20250623T170822Z
LAST-MODIFIED:20250623T170822Z
UID:237-1754938800-1754942400@www.peacewalkerneidan.com
SUMMARY:WLP Broad Northern Method
DESCRIPTION:
URL:https://www.peacewalkerneidan.com/event/wlp-broad-northern-method-13/
END:VEVENT
BEGIN:VEVENT
DTSTART;TZID=UTC:20250806T190000
DTEND;TZID=UTC:20250806T200000
DTSTAMP:20260423T034331
CREATED:20250623T170822Z
LAST-MODIFIED:20250623T170822Z
UID:236-1754506800-1754510400@www.peacewalkerneidan.com
SUMMARY:WLP Broad Northern Method
DESCRIPTION:
URL:https://www.peacewalkerneidan.com/event/wlp-broad-northern-method-12/
END:VEVENT
BEGIN:VEVENT
DTSTART;TZID=UTC:20250804T190000
DTEND;TZID=UTC:20250804T200000
DTSTAMP:20260423T034331
CREATED:20250623T170822Z
LAST-MODIFIED:20250623T170822Z
UID:235-1754334000-1754337600@www.peacewalkerneidan.com
SUMMARY:WLP Broad Northern Method
DESCRIPTION:
URL:https://www.peacewalkerneidan.com/event/wlp-broad-northern-method-11/
END:VEVENT
BEGIN:VEVENT
DTSTART;TZID=UTC:20250728T190000
DTEND;TZID=UTC:20250728T200000
DTSTAMP:20260423T034331
CREATED:20250623T170806Z
LAST-MODIFIED:20250623T170806Z
UID:234-1753729200-1753732800@www.peacewalkerneidan.com
SUMMARY:WLP Broad Northern Method
DESCRIPTION:
URL:https://www.peacewalkerneidan.com/event/wlp-broad-northern-method-10/
END:VEVENT
BEGIN:VEVENT
DTSTART;TZID=UTC:20250723T190000
DTEND;TZID=UTC:20250723T200000
DTSTAMP:20260423T034331
CREATED:20250623T170806Z
LAST-MODIFIED:20250623T170806Z
UID:233-1753297200-1753300800@www.peacewalkerneidan.com
SUMMARY:WLP Broad Northern Method
DESCRIPTION:
URL:https://www.peacewalkerneidan.com/event/wlp-broad-northern-method-9/
END:VEVENT
BEGIN:VEVENT
DTSTART;TZID=UTC:20250721T190000
DTEND;TZID=UTC:20250721T200000
DTSTAMP:20260423T034331
CREATED:20250623T170806Z
LAST-MODIFIED:20250623T170806Z
UID:232-1753124400-1753128000@www.peacewalkerneidan.com
SUMMARY:WLP Broad Northern Method
DESCRIPTION:
URL:https://www.peacewalkerneidan.com/event/wlp-broad-northern-method-8/
END:VEVENT
BEGIN:VEVENT
DTSTART;TZID=UTC:20250716T190000
DTEND;TZID=UTC:20250716T200000
DTSTAMP:20260423T034331
CREATED:20250623T170806Z
LAST-MODIFIED:20250623T170806Z
UID:231-1752692400-1752696000@www.peacewalkerneidan.com
SUMMARY:WLP Broad Northern Method
DESCRIPTION:
URL:https://www.peacewalkerneidan.com/event/wlp-broad-northern-method-7/
END:VEVENT
BEGIN:VEVENT
DTSTART;TZID=UTC:20250714T190000
DTEND;TZID=UTC:20250714T200000
DTSTAMP:20260423T034331
CREATED:20250623T170806Z
LAST-MODIFIED:20250623T170806Z
UID:230-1752519600-1752523200@www.peacewalkerneidan.com
SUMMARY:WLP Broad Northern Method
DESCRIPTION:
URL:https://www.peacewalkerneidan.com/event/wlp-broad-northern-method-6/
END:VEVENT
BEGIN:VEVENT
DTSTART;TZID=UTC:20250709T190000
DTEND;TZID=UTC:20250709T200000
DTSTAMP:20260423T034331
CREATED:20250623T170805Z
LAST-MODIFIED:20250623T170805Z
UID:229-1752087600-1752091200@www.peacewalkerneidan.com
SUMMARY:WLP Broad Northern Method
DESCRIPTION:
URL:https://www.peacewalkerneidan.com/event/wlp-broad-northern-method-5/
END:VEVENT
BEGIN:VEVENT
DTSTART;TZID=UTC:20250707T190000
DTEND;TZID=UTC:20250707T200000
DTSTAMP:20260423T034331
CREATED:20250623T170805Z
LAST-MODIFIED:20250623T170805Z
UID:228-1751914800-1751918400@www.peacewalkerneidan.com
SUMMARY:WLP Broad Northern Method
DESCRIPTION:
URL:https://www.peacewalkerneidan.com/event/wlp-broad-northern-method-4/
END:VEVENT
BEGIN:VEVENT
DTSTART;TZID=UTC:20250702T190000
DTEND;TZID=UTC:20250702T200000
DTSTAMP:20260423T034331
CREATED:20250623T170805Z
LAST-MODIFIED:20250623T170805Z
UID:227-1751482800-1751486400@www.peacewalkerneidan.com
SUMMARY:WLP Broad Northern Method
DESCRIPTION:
URL:https://www.peacewalkerneidan.com/event/wlp-broad-northern-method-3/
END:VEVENT
BEGIN:VEVENT
DTSTART;TZID=UTC:20250625T190000
DTEND;TZID=UTC:20250625T200000
DTSTAMP:20260423T034331
CREATED:20250623T170805Z
LAST-MODIFIED:20250623T170805Z
UID:226-1750878000-1750881600@www.peacewalkerneidan.com
SUMMARY:WLP Broad Northern Method
DESCRIPTION:
URL:https://www.peacewalkerneidan.com/event/wlp-broad-northern-method-2/
END:VEVENT
BEGIN:VEVENT
DTSTART;TZID=UTC:20250623T190000
DTEND;TZID=UTC:20250623T200000
DTSTAMP:20260423T034331
CREATED:20250623T170805Z
LAST-MODIFIED:20250623T170805Z
UID:225-1750705200-1750708800@www.peacewalkerneidan.com
SUMMARY:WLP Broad Northern Method
DESCRIPTION:
URL:https://www.peacewalkerneidan.com/event/wlp-broad-northern-method/
END:VEVENT
END:VCALENDAR