BEGIN:VCALENDAR
VERSION:2.0
PRODID:-//Peacewalker Neidan - ECPv6.11.1//NONSGML v1.0//EN
CALSCALE:GREGORIAN
METHOD:PUBLISH
X-WR-CALNAME:Peacewalker Neidan
X-ORIGINAL-URL:https://www.peacewalkerneidan.com
X-WR-CALDESC:Events for Peacewalker Neidan
REFRESH-INTERVAL;VALUE=DURATION:PT1H
X-Robots-Tag:noindex
X-PUBLISHED-TTL:PT1H
BEGIN:VTIMEZONE
TZID:UTC
BEGIN:STANDARD
TZOFFSETFROM:+0000
TZOFFSETTO:+0000
TZNAME:UTC
DTSTART:20250101T000000
END:STANDARD
END:VTIMEZONE
BEGIN:VEVENT
DTSTART;TZID=UTC:20260128T190000
DTEND;TZID=UTC:20260128T200000
DTSTAMP:20260422T223241
CREATED:20250623T173919Z
LAST-MODIFIED:20250623T173919Z
UID:282-1769626800-1769630400@www.peacewalkerneidan.com
SUMMARY:WLP Broad Northern Method
DESCRIPTION:
URL:https://www.peacewalkerneidan.com/event/wlp-broad-northern-method-58/
END:VEVENT
BEGIN:VEVENT
DTSTART;TZID=UTC:20260126T190000
DTEND;TZID=UTC:20260126T200000
DTSTAMP:20260422T223241
CREATED:20250623T173919Z
LAST-MODIFIED:20250623T173919Z
UID:281-1769454000-1769457600@www.peacewalkerneidan.com
SUMMARY:WLP Broad Northern Method
DESCRIPTION:
URL:https://www.peacewalkerneidan.com/event/wlp-broad-northern-method-57/
END:VEVENT
BEGIN:VEVENT
DTSTART;TZID=UTC:20260121T190000
DTEND;TZID=UTC:20260121T200000
DTSTAMP:20260422T223241
CREATED:20250623T173919Z
LAST-MODIFIED:20250623T173919Z
UID:280-1769022000-1769025600@www.peacewalkerneidan.com
SUMMARY:WLP Broad Northern Method
DESCRIPTION:
URL:https://www.peacewalkerneidan.com/event/wlp-broad-northern-method-56/
END:VEVENT
BEGIN:VEVENT
DTSTART;TZID=UTC:20260119T190000
DTEND;TZID=UTC:20260119T200000
DTSTAMP:20260422T223241
CREATED:20250623T172231Z
LAST-MODIFIED:20250623T172231Z
UID:279-1768849200-1768852800@www.peacewalkerneidan.com
SUMMARY:WLP Broad Northern Method
DESCRIPTION:
URL:https://www.peacewalkerneidan.com/event/wlp-broad-northern-method-55/
END:VEVENT
BEGIN:VEVENT
DTSTART;TZID=UTC:20260114T190000
DTEND;TZID=UTC:20260114T200000
DTSTAMP:20260422T223241
CREATED:20250623T172231Z
LAST-MODIFIED:20250623T172231Z
UID:278-1768417200-1768420800@www.peacewalkerneidan.com
SUMMARY:WLP Broad Northern Method
DESCRIPTION:
URL:https://www.peacewalkerneidan.com/event/wlp-broad-northern-method-54/
END:VEVENT
BEGIN:VEVENT
DTSTART;TZID=UTC:20260112T190000
DTEND;TZID=UTC:20260112T200000
DTSTAMP:20260422T223241
CREATED:20250623T172231Z
LAST-MODIFIED:20250623T172231Z
UID:277-1768244400-1768248000@www.peacewalkerneidan.com
SUMMARY:WLP Broad Northern Method
DESCRIPTION:
URL:https://www.peacewalkerneidan.com/event/wlp-broad-northern-method-53/
END:VEVENT
BEGIN:VEVENT
DTSTART;TZID=UTC:20260107T190000
DTEND;TZID=UTC:20260107T200000
DTSTAMP:20260422T223241
CREATED:20250623T172231Z
LAST-MODIFIED:20250623T172231Z
UID:276-1767812400-1767816000@www.peacewalkerneidan.com
SUMMARY:WLP Broad Northern Method
DESCRIPTION:
URL:https://www.peacewalkerneidan.com/event/wlp-broad-northern-method-52/
END:VEVENT
BEGIN:VEVENT
DTSTART;TZID=UTC:20260105T190000
DTEND;TZID=UTC:20260105T200000
DTSTAMP:20260422T223241
CREATED:20250623T172231Z
LAST-MODIFIED:20250623T172231Z
UID:275-1767639600-1767643200@www.peacewalkerneidan.com
SUMMARY:WLP Broad Northern Method
DESCRIPTION:
URL:https://www.peacewalkerneidan.com/event/wlp-broad-northern-method-51/
END:VEVENT
BEGIN:VEVENT
DTSTART;TZID=UTC:20251224T190000
DTEND;TZID=UTC:20251224T200000
DTSTAMP:20260422T223241
CREATED:20250623T172030Z
LAST-MODIFIED:20250623T172030Z
UID:274-1766602800-1766606400@www.peacewalkerneidan.com
SUMMARY:WLP Broad Northern Method
DESCRIPTION:
URL:https://www.peacewalkerneidan.com/event/wlp-broad-northern-method-50/
END:VEVENT
BEGIN:VEVENT
DTSTART;TZID=UTC:20251222T190000
DTEND;TZID=UTC:20251222T200000
DTSTAMP:20260422T223241
CREATED:20250623T172030Z
LAST-MODIFIED:20250623T172030Z
UID:273-1766430000-1766433600@www.peacewalkerneidan.com
SUMMARY:WLP Broad Northern Method
DESCRIPTION:
URL:https://www.peacewalkerneidan.com/event/wlp-broad-northern-method-49/
END:VEVENT
BEGIN:VEVENT
DTSTART;TZID=UTC:20251217T190000
DTEND;TZID=UTC:20251217T200000
DTSTAMP:20260422T223241
CREATED:20250623T172030Z
LAST-MODIFIED:20250623T172030Z
UID:272-1765998000-1766001600@www.peacewalkerneidan.com
SUMMARY:WLP Broad Northern Method
DESCRIPTION:
URL:https://www.peacewalkerneidan.com/event/wlp-broad-northern-method-48/
END:VEVENT
BEGIN:VEVENT
DTSTART;TZID=UTC:20251215T190000
DTEND;TZID=UTC:20251215T200000
DTSTAMP:20260422T223241
CREATED:20250623T172030Z
LAST-MODIFIED:20250623T172030Z
UID:271-1765825200-1765828800@www.peacewalkerneidan.com
SUMMARY:WLP Broad Northern Method
DESCRIPTION:
URL:https://www.peacewalkerneidan.com/event/wlp-broad-northern-method-47/
END:VEVENT
BEGIN:VEVENT
DTSTART;TZID=UTC:20251210T190000
DTEND;TZID=UTC:20251210T200000
DTSTAMP:20260422T223241
CREATED:20250623T172030Z
LAST-MODIFIED:20250623T172030Z
UID:270-1765393200-1765396800@www.peacewalkerneidan.com
SUMMARY:WLP Broad Northern Method
DESCRIPTION:
URL:https://www.peacewalkerneidan.com/event/wlp-broad-northern-method-46/
END:VEVENT
BEGIN:VEVENT
DTSTART;TZID=UTC:20251208T190000
DTEND;TZID=UTC:20251208T200000
DTSTAMP:20260422T223241
CREATED:20250623T171829Z
LAST-MODIFIED:20250623T171829Z
UID:269-1765220400-1765224000@www.peacewalkerneidan.com
SUMMARY:WLP Broad Northern Method
DESCRIPTION:
URL:https://www.peacewalkerneidan.com/event/wlp-broad-northern-method-45/
END:VEVENT
BEGIN:VEVENT
DTSTART;TZID=UTC:20251203T190000
DTEND;TZID=UTC:20251203T200000
DTSTAMP:20260422T223241
CREATED:20250623T171829Z
LAST-MODIFIED:20250623T171829Z
UID:268-1764788400-1764792000@www.peacewalkerneidan.com
SUMMARY:WLP Broad Northern Method
DESCRIPTION:
URL:https://www.peacewalkerneidan.com/event/wlp-broad-northern-method-44/
END:VEVENT
BEGIN:VEVENT
DTSTART;TZID=UTC:20251201T190000
DTEND;TZID=UTC:20251201T200000
DTSTAMP:20260422T223241
CREATED:20250623T171829Z
LAST-MODIFIED:20250623T171829Z
UID:267-1764615600-1764619200@www.peacewalkerneidan.com
SUMMARY:WLP Broad Northern Method
DESCRIPTION:
URL:https://www.peacewalkerneidan.com/event/wlp-broad-northern-method-43/
END:VEVENT
BEGIN:VEVENT
DTSTART;TZID=UTC:20251126T190000
DTEND;TZID=UTC:20251126T200000
DTSTAMP:20260422T223241
CREATED:20250623T171829Z
LAST-MODIFIED:20250623T171829Z
UID:266-1764183600-1764187200@www.peacewalkerneidan.com
SUMMARY:WLP Broad Northern Method
DESCRIPTION:
URL:https://www.peacewalkerneidan.com/event/wlp-broad-northern-method-42/
END:VEVENT
BEGIN:VEVENT
DTSTART;TZID=UTC:20251124T190000
DTEND;TZID=UTC:20251124T200000
DTSTAMP:20260422T223241
CREATED:20250623T171829Z
LAST-MODIFIED:20250623T171829Z
UID:265-1764010800-1764014400@www.peacewalkerneidan.com
SUMMARY:WLP Broad Northern Method
DESCRIPTION:
URL:https://www.peacewalkerneidan.com/event/wlp-broad-northern-method-41/
END:VEVENT
BEGIN:VEVENT
DTSTART;TZID=UTC:20251119T190000
DTEND;TZID=UTC:20251119T200000
DTSTAMP:20260422T223241
CREATED:20250623T171628Z
LAST-MODIFIED:20250623T171628Z
UID:264-1763578800-1763582400@www.peacewalkerneidan.com
SUMMARY:WLP Broad Northern Method
DESCRIPTION:
URL:https://www.peacewalkerneidan.com/event/wlp-broad-northern-method-40/
END:VEVENT
BEGIN:VEVENT
DTSTART;TZID=UTC:20251117T190000
DTEND;TZID=UTC:20251117T200000
DTSTAMP:20260422T223241
CREATED:20250623T171628Z
LAST-MODIFIED:20250623T171628Z
UID:263-1763406000-1763409600@www.peacewalkerneidan.com
SUMMARY:WLP Broad Northern Method
DESCRIPTION:
URL:https://www.peacewalkerneidan.com/event/wlp-broad-northern-method-39/
END:VEVENT
BEGIN:VEVENT
DTSTART;TZID=UTC:20251112T190000
DTEND;TZID=UTC:20251112T200000
DTSTAMP:20260422T223241
CREATED:20250623T171628Z
LAST-MODIFIED:20250623T171628Z
UID:262-1762974000-1762977600@www.peacewalkerneidan.com
SUMMARY:WLP Broad Northern Method
DESCRIPTION:
URL:https://www.peacewalkerneidan.com/event/wlp-broad-northern-method-38/
END:VEVENT
BEGIN:VEVENT
DTSTART;TZID=UTC:20251110T190000
DTEND;TZID=UTC:20251110T200000
DTSTAMP:20260422T223241
CREATED:20250623T171628Z
LAST-MODIFIED:20250623T171628Z
UID:261-1762801200-1762804800@www.peacewalkerneidan.com
SUMMARY:WLP Broad Northern Method
DESCRIPTION:
URL:https://www.peacewalkerneidan.com/event/wlp-broad-northern-method-37/
END:VEVENT
BEGIN:VEVENT
DTSTART;TZID=UTC:20251105T190000
DTEND;TZID=UTC:20251105T200000
DTSTAMP:20260422T223241
CREATED:20250623T171628Z
LAST-MODIFIED:20250623T171628Z
UID:260-1762369200-1762372800@www.peacewalkerneidan.com
SUMMARY:WLP Broad Northern Method
DESCRIPTION:
URL:https://www.peacewalkerneidan.com/event/wlp-broad-northern-method-36/
END:VEVENT
BEGIN:VEVENT
DTSTART;TZID=UTC:20251103T190000
DTEND;TZID=UTC:20251103T200000
DTSTAMP:20260422T223241
CREATED:20250623T171426Z
LAST-MODIFIED:20250623T171426Z
UID:259-1762196400-1762200000@www.peacewalkerneidan.com
SUMMARY:WLP Broad Northern Method
DESCRIPTION:
URL:https://www.peacewalkerneidan.com/event/wlp-broad-northern-method-35/
END:VEVENT
BEGIN:VEVENT
DTSTART;TZID=UTC:20251027T190000
DTEND;TZID=UTC:20251027T200000
DTSTAMP:20260422T223241
CREATED:20250623T171426Z
LAST-MODIFIED:20250623T171426Z
UID:258-1761591600-1761595200@www.peacewalkerneidan.com
SUMMARY:WLP Broad Northern Method
DESCRIPTION:
URL:https://www.peacewalkerneidan.com/event/wlp-broad-northern-method-34/
END:VEVENT
BEGIN:VEVENT
DTSTART;TZID=UTC:20251022T190000
DTEND;TZID=UTC:20251022T200000
DTSTAMP:20260422T223241
CREATED:20250623T171426Z
LAST-MODIFIED:20250623T171426Z
UID:257-1761159600-1761163200@www.peacewalkerneidan.com
SUMMARY:WLP Broad Northern Method
DESCRIPTION:
URL:https://www.peacewalkerneidan.com/event/wlp-broad-northern-method-33/
END:VEVENT
BEGIN:VEVENT
DTSTART;TZID=UTC:20251020T190000
DTEND;TZID=UTC:20251020T200000
DTSTAMP:20260422T223241
CREATED:20250623T171426Z
LAST-MODIFIED:20250623T171426Z
UID:256-1760986800-1760990400@www.peacewalkerneidan.com
SUMMARY:WLP Broad Northern Method
DESCRIPTION:
URL:https://www.peacewalkerneidan.com/event/wlp-broad-northern-method-32/
END:VEVENT
BEGIN:VEVENT
DTSTART;TZID=UTC:20251015T190000
DTEND;TZID=UTC:20251015T200000
DTSTAMP:20260422T223241
CREATED:20250623T171426Z
LAST-MODIFIED:20250623T171426Z
UID:255-1760554800-1760558400@www.peacewalkerneidan.com
SUMMARY:WLP Broad Northern Method
DESCRIPTION:
URL:https://www.peacewalkerneidan.com/event/wlp-broad-northern-method-31/
END:VEVENT
BEGIN:VEVENT
DTSTART;TZID=UTC:20251013T190000
DTEND;TZID=UTC:20251013T200000
DTSTAMP:20260422T223241
CREATED:20250623T171226Z
LAST-MODIFIED:20250623T171226Z
UID:254-1760382000-1760385600@www.peacewalkerneidan.com
SUMMARY:WLP Broad Northern Method
DESCRIPTION:
URL:https://www.peacewalkerneidan.com/event/wlp-broad-northern-method-30/
END:VEVENT
BEGIN:VEVENT
DTSTART;TZID=UTC:20251008T190000
DTEND;TZID=UTC:20251008T200000
DTSTAMP:20260422T223241
CREATED:20250623T171226Z
LAST-MODIFIED:20250623T171226Z
UID:253-1759950000-1759953600@www.peacewalkerneidan.com
SUMMARY:WLP Broad Northern Method
DESCRIPTION:
URL:https://www.peacewalkerneidan.com/event/wlp-broad-northern-method-29/
END:VEVENT
END:VCALENDAR